BEGIN:VCALENDAR
VERSION:2.0
PRODID:-//Belleville and Quinte West Community Health Centre - ECPv6.15.20//NONSGML v1.0//EN
CALSCALE:GREGORIAN
METHOD:PUBLISH
X-WR-CALNAME:Belleville and Quinte West Community Health Centre
X-ORIGINAL-URL:https://www.bqwchc.com
X-WR-CALDESC:Events for Belleville and Quinte West Community Health Centre
REFRESH-INTERVAL;VALUE=DURATION:PT1H
X-Robots-Tag:noindex
X-PUBLISHED-TTL:PT1H
BEGIN:VTIMEZONE
TZID:America/Toronto
BEGIN:DAYLIGHT
TZOFFSETFROM:-0500
TZOFFSETTO:-0400
TZNAME:EDT
DTSTART:20280312T070000
END:DAYLIGHT
BEGIN:STANDARD
TZOFFSETFROM:-0400
TZOFFSETTO:-0500
TZNAME:EST
DTSTART:20281105T060000
END:STANDARD
BEGIN:DAYLIGHT
TZOFFSETFROM:-0500
TZOFFSETTO:-0400
TZNAME:EDT
DTSTART:20290311T070000
END:DAYLIGHT
BEGIN:STANDARD
TZOFFSETFROM:-0400
TZOFFSETTO:-0500
TZNAME:EST
DTSTART:20291104T060000
END:STANDARD
BEGIN:DAYLIGHT
TZOFFSETFROM:-0500
TZOFFSETTO:-0400
TZNAME:EDT
DTSTART:20300310T070000
END:DAYLIGHT
BEGIN:STANDARD
TZOFFSETFROM:-0400
TZOFFSETTO:-0500
TZNAME:EST
DTSTART:20301103T060000
END:STANDARD
BEGIN:DAYLIGHT
TZOFFSETFROM:-0500
TZOFFSETTO:-0400
TZNAME:EDT
DTSTART:20310309T070000
END:DAYLIGHT
BEGIN:STANDARD
TZOFFSETFROM:-0400
TZOFFSETTO:-0500
TZNAME:EST
DTSTART:20311102T060000
END:STANDARD
BEGIN:DAYLIGHT
TZOFFSETFROM:-0500
TZOFFSETTO:-0400
TZNAME:EDT
DTSTART:20320314T070000
END:DAYLIGHT
BEGIN:STANDARD
TZOFFSETFROM:-0400
TZOFFSETTO:-0500
TZNAME:EST
DTSTART:20321107T060000
END:STANDARD
END:VTIMEZONE
BEGIN:VEVENT
DTSTART;TZID=America/Toronto:20290606T093000
DTEND;TZID=America/Toronto:20290606T110000
DTSTAMP:20260420T184008
CREATED:20260317T174205Z
LAST-MODIFIED:20260317T174248Z
UID:10005680-1875432600-1875438000@www.bqwchc.com
SUMMARY:Drop in—Quinte West Seated Exercise Group
DESCRIPTION:What: Join us for a peer-led seated exercise group. Ages 18+ Experience safe\, gentle and fun ways to exercise your body. \nWhen: 1st and 3rd Wednesday from 9:30am-11:00am \nWhere: 69 Catherine Street\, Trenton \nFREE & Open to Everyone in the Community!\nFacilitated by BQWCHC Volunteers \nFor more information call 613-965-0698 ext 217 for Health Promoter \nCLICK HERE FOR PROGRAM FLYER
URL:https://www.bqwchc.com/calendar/drop-in-quinte-west-seated-exercise-group-2-2/2029-06-06/
LOCATION:Belleville and Quinte West Community Health Centre\, 161 Bridge Street West\, Unit 1\, Belleville\, Ontario\, K8P 1K2\, Canada
CATEGORIES:Excercise,Quinte West
ATTACH;FMTTYPE=image/png:https://www.bqwchc.com/wp-content/uploads/2026/03/QW-Seated-Exercise-flyer-April-to-June-2026.png.png
END:VEVENT
BEGIN:VEVENT
DTSTART;TZID=America/Toronto:20290704T093000
DTEND;TZID=America/Toronto:20290704T110000
DTSTAMP:20260420T184008
CREATED:20260317T174205Z
LAST-MODIFIED:20260317T174248Z
UID:10005681-1877851800-1877857200@www.bqwchc.com
SUMMARY:Drop in—Quinte West Seated Exercise Group
DESCRIPTION:What: Join us for a peer-led seated exercise group. Ages 18+ Experience safe\, gentle and fun ways to exercise your body. \nWhen: 1st and 3rd Wednesday from 9:30am-11:00am \nWhere: 69 Catherine Street\, Trenton \nFREE & Open to Everyone in the Community!\nFacilitated by BQWCHC Volunteers \nFor more information call 613-965-0698 ext 217 for Health Promoter \nCLICK HERE FOR PROGRAM FLYER
URL:https://www.bqwchc.com/calendar/drop-in-quinte-west-seated-exercise-group-2-2/2029-07-04/
LOCATION:Belleville and Quinte West Community Health Centre\, 161 Bridge Street West\, Unit 1\, Belleville\, Ontario\, K8P 1K2\, Canada
CATEGORIES:Excercise,Quinte West
ATTACH;FMTTYPE=image/png:https://www.bqwchc.com/wp-content/uploads/2026/03/QW-Seated-Exercise-flyer-April-to-June-2026.png.png
END:VEVENT
BEGIN:VEVENT
DTSTART;TZID=America/Toronto:20290801T093000
DTEND;TZID=America/Toronto:20290801T110000
DTSTAMP:20260420T184008
CREATED:20260317T174205Z
LAST-MODIFIED:20260317T174248Z
UID:10005682-1880271000-1880276400@www.bqwchc.com
SUMMARY:Drop in—Quinte West Seated Exercise Group
DESCRIPTION:What: Join us for a peer-led seated exercise group. Ages 18+ Experience safe\, gentle and fun ways to exercise your body. \nWhen: 1st and 3rd Wednesday from 9:30am-11:00am \nWhere: 69 Catherine Street\, Trenton \nFREE & Open to Everyone in the Community!\nFacilitated by BQWCHC Volunteers \nFor more information call 613-965-0698 ext 217 for Health Promoter \nCLICK HERE FOR PROGRAM FLYER
URL:https://www.bqwchc.com/calendar/drop-in-quinte-west-seated-exercise-group-2-2/2029-08-01/
LOCATION:Belleville and Quinte West Community Health Centre\, 161 Bridge Street West\, Unit 1\, Belleville\, Ontario\, K8P 1K2\, Canada
CATEGORIES:Excercise,Quinte West
ATTACH;FMTTYPE=image/png:https://www.bqwchc.com/wp-content/uploads/2026/03/QW-Seated-Exercise-flyer-April-to-June-2026.png.png
END:VEVENT
BEGIN:VEVENT
DTSTART;TZID=America/Toronto:20290829T100000
DTEND;TZID=America/Toronto:20290829T113000
DTSTAMP:20260420T184008
CREATED:20260326T173138Z
LAST-MODIFIED:20260326T173138Z
UID:10005991-1882692000-1882697400@www.bqwchc.com
SUMMARY:Spotlight on Diabetes
DESCRIPTION:WHAT: A monthly support group with FREE presentations appropriate for those who have been diagnosed with diabetes\, their caregivers\, and partners. \nWHEN: 1st Tuesday of each month from 10:00—11:30 am \nWHERE: 69 Catherine St Trenton \nFREE & Open to Everyone in the Community!\nFor more information or to reserve your spot\, please call 613-965-0698 \nCLICK HERE TO SEE MONTHLY TOPICS \nCLICK HERE FOR PROGRAM FLYER 
URL:https://www.bqwchc.com/calendar/spotlight-on-diabetes-2-2/2029-08-29/
LOCATION:Quinte West Community Health Centre\, 69 Catherine Street\, Trenton\, Ontario\, K8V 5K9\, Canada
CATEGORIES:Diabetes,Quinte West
ATTACH;FMTTYPE=image/jpeg:https://www.bqwchc.com/wp-content/uploads/2025/09/MasterQW-Spotlight-on-Diabetes.jpg
END:VEVENT
BEGIN:VEVENT
DTSTART;TZID=America/Toronto:20290905T093000
DTEND;TZID=America/Toronto:20290905T110000
DTSTAMP:20260420T184008
CREATED:20260317T174205Z
LAST-MODIFIED:20260317T174248Z
UID:10005683-1883295000-1883300400@www.bqwchc.com
SUMMARY:Drop in—Quinte West Seated Exercise Group
DESCRIPTION:What: Join us for a peer-led seated exercise group. Ages 18+ Experience safe\, gentle and fun ways to exercise your body. \nWhen: 1st and 3rd Wednesday from 9:30am-11:00am \nWhere: 69 Catherine Street\, Trenton \nFREE & Open to Everyone in the Community!\nFacilitated by BQWCHC Volunteers \nFor more information call 613-965-0698 ext 217 for Health Promoter \nCLICK HERE FOR PROGRAM FLYER
URL:https://www.bqwchc.com/calendar/drop-in-quinte-west-seated-exercise-group-2-2/2029-09-05/
LOCATION:Belleville and Quinte West Community Health Centre\, 161 Bridge Street West\, Unit 1\, Belleville\, Ontario\, K8P 1K2\, Canada
CATEGORIES:Excercise,Quinte West
ATTACH;FMTTYPE=image/png:https://www.bqwchc.com/wp-content/uploads/2026/03/QW-Seated-Exercise-flyer-April-to-June-2026.png.png
END:VEVENT
BEGIN:VEVENT
DTSTART;TZID=America/Toronto:20291003T093000
DTEND;TZID=America/Toronto:20291003T110000
DTSTAMP:20260420T184008
CREATED:20260317T174205Z
LAST-MODIFIED:20260317T174248Z
UID:10005684-1885714200-1885719600@www.bqwchc.com
SUMMARY:Drop in—Quinte West Seated Exercise Group
DESCRIPTION:What: Join us for a peer-led seated exercise group. Ages 18+ Experience safe\, gentle and fun ways to exercise your body. \nWhen: 1st and 3rd Wednesday from 9:30am-11:00am \nWhere: 69 Catherine Street\, Trenton \nFREE & Open to Everyone in the Community!\nFacilitated by BQWCHC Volunteers \nFor more information call 613-965-0698 ext 217 for Health Promoter \nCLICK HERE FOR PROGRAM FLYER
URL:https://www.bqwchc.com/calendar/drop-in-quinte-west-seated-exercise-group-2-2/2029-10-03/
LOCATION:Belleville and Quinte West Community Health Centre\, 161 Bridge Street West\, Unit 1\, Belleville\, Ontario\, K8P 1K2\, Canada
CATEGORIES:Excercise,Quinte West
ATTACH;FMTTYPE=image/png:https://www.bqwchc.com/wp-content/uploads/2026/03/QW-Seated-Exercise-flyer-April-to-June-2026.png.png
END:VEVENT
BEGIN:VEVENT
DTSTART;TZID=America/Toronto:20291107T093000
DTEND;TZID=America/Toronto:20291107T110000
DTSTAMP:20260420T184008
CREATED:20260317T174205Z
LAST-MODIFIED:20260317T174248Z
UID:10005685-1888738200-1888743600@www.bqwchc.com
SUMMARY:Drop in—Quinte West Seated Exercise Group
DESCRIPTION:What: Join us for a peer-led seated exercise group. Ages 18+ Experience safe\, gentle and fun ways to exercise your body. \nWhen: 1st and 3rd Wednesday from 9:30am-11:00am \nWhere: 69 Catherine Street\, Trenton \nFREE & Open to Everyone in the Community!\nFacilitated by BQWCHC Volunteers \nFor more information call 613-965-0698 ext 217 for Health Promoter \nCLICK HERE FOR PROGRAM FLYER
URL:https://www.bqwchc.com/calendar/drop-in-quinte-west-seated-exercise-group-2-2/2029-11-07/
LOCATION:Belleville and Quinte West Community Health Centre\, 161 Bridge Street West\, Unit 1\, Belleville\, Ontario\, K8P 1K2\, Canada
CATEGORIES:Excercise,Quinte West
ATTACH;FMTTYPE=image/png:https://www.bqwchc.com/wp-content/uploads/2026/03/QW-Seated-Exercise-flyer-April-to-June-2026.png.png
END:VEVENT
BEGIN:VEVENT
DTSTART;TZID=America/Toronto:20291205T093000
DTEND;TZID=America/Toronto:20291205T110000
DTSTAMP:20260420T184008
CREATED:20260317T174205Z
LAST-MODIFIED:20260317T174248Z
UID:10005686-1891157400-1891162800@www.bqwchc.com
SUMMARY:Drop in—Quinte West Seated Exercise Group
DESCRIPTION:What: Join us for a peer-led seated exercise group. Ages 18+ Experience safe\, gentle and fun ways to exercise your body. \nWhen: 1st and 3rd Wednesday from 9:30am-11:00am \nWhere: 69 Catherine Street\, Trenton \nFREE & Open to Everyone in the Community!\nFacilitated by BQWCHC Volunteers \nFor more information call 613-965-0698 ext 217 for Health Promoter \nCLICK HERE FOR PROGRAM FLYER
URL:https://www.bqwchc.com/calendar/drop-in-quinte-west-seated-exercise-group-2-2/2029-12-05/
LOCATION:Belleville and Quinte West Community Health Centre\, 161 Bridge Street West\, Unit 1\, Belleville\, Ontario\, K8P 1K2\, Canada
CATEGORIES:Excercise,Quinte West
ATTACH;FMTTYPE=image/png:https://www.bqwchc.com/wp-content/uploads/2026/03/QW-Seated-Exercise-flyer-April-to-June-2026.png.png
END:VEVENT
BEGIN:VEVENT
DTSTART;TZID=America/Toronto:20300102T093000
DTEND;TZID=America/Toronto:20300102T110000
DTSTAMP:20260420T184008
CREATED:20260317T174205Z
LAST-MODIFIED:20260317T174248Z
UID:10005687-1893576600-1893582000@www.bqwchc.com
SUMMARY:Drop in—Quinte West Seated Exercise Group
DESCRIPTION:What: Join us for a peer-led seated exercise group. Ages 18+ Experience safe\, gentle and fun ways to exercise your body. \nWhen: 1st and 3rd Wednesday from 9:30am-11:00am \nWhere: 69 Catherine Street\, Trenton \nFREE & Open to Everyone in the Community!\nFacilitated by BQWCHC Volunteers \nFor more information call 613-965-0698 ext 217 for Health Promoter \nCLICK HERE FOR PROGRAM FLYER
URL:https://www.bqwchc.com/calendar/drop-in-quinte-west-seated-exercise-group-2-2/2030-01-02/
LOCATION:Belleville and Quinte West Community Health Centre\, 161 Bridge Street West\, Unit 1\, Belleville\, Ontario\, K8P 1K2\, Canada
CATEGORIES:Excercise,Quinte West
ATTACH;FMTTYPE=image/png:https://www.bqwchc.com/wp-content/uploads/2026/03/QW-Seated-Exercise-flyer-April-to-June-2026.png.png
END:VEVENT
BEGIN:VEVENT
DTSTART;TZID=America/Toronto:20300206T093000
DTEND;TZID=America/Toronto:20300206T110000
DTSTAMP:20260420T184008
CREATED:20260317T174205Z
LAST-MODIFIED:20260317T174248Z
UID:10005688-1896600600-1896606000@www.bqwchc.com
SUMMARY:Drop in—Quinte West Seated Exercise Group
DESCRIPTION:What: Join us for a peer-led seated exercise group. Ages 18+ Experience safe\, gentle and fun ways to exercise your body. \nWhen: 1st and 3rd Wednesday from 9:30am-11:00am \nWhere: 69 Catherine Street\, Trenton \nFREE & Open to Everyone in the Community!\nFacilitated by BQWCHC Volunteers \nFor more information call 613-965-0698 ext 217 for Health Promoter \nCLICK HERE FOR PROGRAM FLYER
URL:https://www.bqwchc.com/calendar/drop-in-quinte-west-seated-exercise-group-2-2/2030-02-06/
LOCATION:Belleville and Quinte West Community Health Centre\, 161 Bridge Street West\, Unit 1\, Belleville\, Ontario\, K8P 1K2\, Canada
CATEGORIES:Excercise,Quinte West
ATTACH;FMTTYPE=image/png:https://www.bqwchc.com/wp-content/uploads/2026/03/QW-Seated-Exercise-flyer-April-to-June-2026.png.png
END:VEVENT
BEGIN:VEVENT
DTSTART;TZID=America/Toronto:20300306T093000
DTEND;TZID=America/Toronto:20300306T110000
DTSTAMP:20260420T184008
CREATED:20260317T174205Z
LAST-MODIFIED:20260317T174248Z
UID:10005689-1899019800-1899025200@www.bqwchc.com
SUMMARY:Drop in—Quinte West Seated Exercise Group
DESCRIPTION:What: Join us for a peer-led seated exercise group. Ages 18+ Experience safe\, gentle and fun ways to exercise your body. \nWhen: 1st and 3rd Wednesday from 9:30am-11:00am \nWhere: 69 Catherine Street\, Trenton \nFREE & Open to Everyone in the Community!\nFacilitated by BQWCHC Volunteers \nFor more information call 613-965-0698 ext 217 for Health Promoter \nCLICK HERE FOR PROGRAM FLYER
URL:https://www.bqwchc.com/calendar/drop-in-quinte-west-seated-exercise-group-2-2/2030-03-06/
LOCATION:Belleville and Quinte West Community Health Centre\, 161 Bridge Street West\, Unit 1\, Belleville\, Ontario\, K8P 1K2\, Canada
CATEGORIES:Excercise,Quinte West
ATTACH;FMTTYPE=image/png:https://www.bqwchc.com/wp-content/uploads/2026/03/QW-Seated-Exercise-flyer-April-to-June-2026.png.png
END:VEVENT
BEGIN:VEVENT
DTSTART;TZID=America/Toronto:20300403T093000
DTEND;TZID=America/Toronto:20300403T110000
DTSTAMP:20260420T184008
CREATED:20260317T174205Z
LAST-MODIFIED:20260317T174248Z
UID:10005690-1901439000-1901444400@www.bqwchc.com
SUMMARY:Drop in—Quinte West Seated Exercise Group
DESCRIPTION:What: Join us for a peer-led seated exercise group. Ages 18+ Experience safe\, gentle and fun ways to exercise your body. \nWhen: 1st and 3rd Wednesday from 9:30am-11:00am \nWhere: 69 Catherine Street\, Trenton \nFREE & Open to Everyone in the Community!\nFacilitated by BQWCHC Volunteers \nFor more information call 613-965-0698 ext 217 for Health Promoter \nCLICK HERE FOR PROGRAM FLYER
URL:https://www.bqwchc.com/calendar/drop-in-quinte-west-seated-exercise-group-2-2/2030-04-03/
LOCATION:Belleville and Quinte West Community Health Centre\, 161 Bridge Street West\, Unit 1\, Belleville\, Ontario\, K8P 1K2\, Canada
CATEGORIES:Excercise,Quinte West
ATTACH;FMTTYPE=image/png:https://www.bqwchc.com/wp-content/uploads/2026/03/QW-Seated-Exercise-flyer-April-to-June-2026.png.png
END:VEVENT
BEGIN:VEVENT
DTSTART;TZID=America/Toronto:20300501T093000
DTEND;TZID=America/Toronto:20300501T110000
DTSTAMP:20260420T184008
CREATED:20260317T174205Z
LAST-MODIFIED:20260317T174248Z
UID:10005691-1903858200-1903863600@www.bqwchc.com
SUMMARY:Drop in—Quinte West Seated Exercise Group
DESCRIPTION:What: Join us for a peer-led seated exercise group. Ages 18+ Experience safe\, gentle and fun ways to exercise your body. \nWhen: 1st and 3rd Wednesday from 9:30am-11:00am \nWhere: 69 Catherine Street\, Trenton \nFREE & Open to Everyone in the Community!\nFacilitated by BQWCHC Volunteers \nFor more information call 613-965-0698 ext 217 for Health Promoter \nCLICK HERE FOR PROGRAM FLYER
URL:https://www.bqwchc.com/calendar/drop-in-quinte-west-seated-exercise-group-2-2/2030-05-01/
LOCATION:Belleville and Quinte West Community Health Centre\, 161 Bridge Street West\, Unit 1\, Belleville\, Ontario\, K8P 1K2\, Canada
CATEGORIES:Excercise,Quinte West
ATTACH;FMTTYPE=image/png:https://www.bqwchc.com/wp-content/uploads/2026/03/QW-Seated-Exercise-flyer-April-to-June-2026.png.png
END:VEVENT
BEGIN:VEVENT
DTSTART;TZID=America/Toronto:20300605T093000
DTEND;TZID=America/Toronto:20300605T110000
DTSTAMP:20260420T184008
CREATED:20260317T174205Z
LAST-MODIFIED:20260317T174248Z
UID:10005692-1906882200-1906887600@www.bqwchc.com
SUMMARY:Drop in—Quinte West Seated Exercise Group
DESCRIPTION:What: Join us for a peer-led seated exercise group. Ages 18+ Experience safe\, gentle and fun ways to exercise your body. \nWhen: 1st and 3rd Wednesday from 9:30am-11:00am \nWhere: 69 Catherine Street\, Trenton \nFREE & Open to Everyone in the Community!\nFacilitated by BQWCHC Volunteers \nFor more information call 613-965-0698 ext 217 for Health Promoter \nCLICK HERE FOR PROGRAM FLYER
URL:https://www.bqwchc.com/calendar/drop-in-quinte-west-seated-exercise-group-2-2/2030-06-05/
LOCATION:Belleville and Quinte West Community Health Centre\, 161 Bridge Street West\, Unit 1\, Belleville\, Ontario\, K8P 1K2\, Canada
CATEGORIES:Excercise,Quinte West
ATTACH;FMTTYPE=image/png:https://www.bqwchc.com/wp-content/uploads/2026/03/QW-Seated-Exercise-flyer-April-to-June-2026.png.png
END:VEVENT
BEGIN:VEVENT
DTSTART;TZID=America/Toronto:20300703T093000
DTEND;TZID=America/Toronto:20300703T110000
DTSTAMP:20260420T184008
CREATED:20260317T174205Z
LAST-MODIFIED:20260317T174248Z
UID:10005693-1909301400-1909306800@www.bqwchc.com
SUMMARY:Drop in—Quinte West Seated Exercise Group
DESCRIPTION:What: Join us for a peer-led seated exercise group. Ages 18+ Experience safe\, gentle and fun ways to exercise your body. \nWhen: 1st and 3rd Wednesday from 9:30am-11:00am \nWhere: 69 Catherine Street\, Trenton \nFREE & Open to Everyone in the Community!\nFacilitated by BQWCHC Volunteers \nFor more information call 613-965-0698 ext 217 for Health Promoter \nCLICK HERE FOR PROGRAM FLYER
URL:https://www.bqwchc.com/calendar/drop-in-quinte-west-seated-exercise-group-2-2/2030-07-03/
LOCATION:Belleville and Quinte West Community Health Centre\, 161 Bridge Street West\, Unit 1\, Belleville\, Ontario\, K8P 1K2\, Canada
CATEGORIES:Excercise,Quinte West
ATTACH;FMTTYPE=image/png:https://www.bqwchc.com/wp-content/uploads/2026/03/QW-Seated-Exercise-flyer-April-to-June-2026.png.png
END:VEVENT
BEGIN:VEVENT
DTSTART;TZID=America/Toronto:20300807T093000
DTEND;TZID=America/Toronto:20300807T110000
DTSTAMP:20260420T184008
CREATED:20260317T174205Z
LAST-MODIFIED:20260317T174248Z
UID:10005694-1912325400-1912330800@www.bqwchc.com
SUMMARY:Drop in—Quinte West Seated Exercise Group
DESCRIPTION:What: Join us for a peer-led seated exercise group. Ages 18+ Experience safe\, gentle and fun ways to exercise your body. \nWhen: 1st and 3rd Wednesday from 9:30am-11:00am \nWhere: 69 Catherine Street\, Trenton \nFREE & Open to Everyone in the Community!\nFacilitated by BQWCHC Volunteers \nFor more information call 613-965-0698 ext 217 for Health Promoter \nCLICK HERE FOR PROGRAM FLYER
URL:https://www.bqwchc.com/calendar/drop-in-quinte-west-seated-exercise-group-2-2/2030-08-07/
LOCATION:Belleville and Quinte West Community Health Centre\, 161 Bridge Street West\, Unit 1\, Belleville\, Ontario\, K8P 1K2\, Canada
CATEGORIES:Excercise,Quinte West
ATTACH;FMTTYPE=image/png:https://www.bqwchc.com/wp-content/uploads/2026/03/QW-Seated-Exercise-flyer-April-to-June-2026.png.png
END:VEVENT
BEGIN:VEVENT
DTSTART;TZID=America/Toronto:20300904T093000
DTEND;TZID=America/Toronto:20300904T110000
DTSTAMP:20260420T184008
CREATED:20260317T174205Z
LAST-MODIFIED:20260317T174248Z
UID:10005695-1914744600-1914750000@www.bqwchc.com
SUMMARY:Drop in—Quinte West Seated Exercise Group
DESCRIPTION:What: Join us for a peer-led seated exercise group. Ages 18+ Experience safe\, gentle and fun ways to exercise your body. \nWhen: 1st and 3rd Wednesday from 9:30am-11:00am \nWhere: 69 Catherine Street\, Trenton \nFREE & Open to Everyone in the Community!\nFacilitated by BQWCHC Volunteers \nFor more information call 613-965-0698 ext 217 for Health Promoter \nCLICK HERE FOR PROGRAM FLYER
URL:https://www.bqwchc.com/calendar/drop-in-quinte-west-seated-exercise-group-2-2/2030-09-04/
LOCATION:Belleville and Quinte West Community Health Centre\, 161 Bridge Street West\, Unit 1\, Belleville\, Ontario\, K8P 1K2\, Canada
CATEGORIES:Excercise,Quinte West
ATTACH;FMTTYPE=image/png:https://www.bqwchc.com/wp-content/uploads/2026/03/QW-Seated-Exercise-flyer-April-to-June-2026.png.png
END:VEVENT
BEGIN:VEVENT
DTSTART;TZID=America/Toronto:20301002T093000
DTEND;TZID=America/Toronto:20301002T110000
DTSTAMP:20260420T184008
CREATED:20260317T174205Z
LAST-MODIFIED:20260317T174248Z
UID:10005696-1917163800-1917169200@www.bqwchc.com
SUMMARY:Drop in—Quinte West Seated Exercise Group
DESCRIPTION:What: Join us for a peer-led seated exercise group. Ages 18+ Experience safe\, gentle and fun ways to exercise your body. \nWhen: 1st and 3rd Wednesday from 9:30am-11:00am \nWhere: 69 Catherine Street\, Trenton \nFREE & Open to Everyone in the Community!\nFacilitated by BQWCHC Volunteers \nFor more information call 613-965-0698 ext 217 for Health Promoter \nCLICK HERE FOR PROGRAM FLYER
URL:https://www.bqwchc.com/calendar/drop-in-quinte-west-seated-exercise-group-2-2/2030-10-02/
LOCATION:Belleville and Quinte West Community Health Centre\, 161 Bridge Street West\, Unit 1\, Belleville\, Ontario\, K8P 1K2\, Canada
CATEGORIES:Excercise,Quinte West
ATTACH;FMTTYPE=image/png:https://www.bqwchc.com/wp-content/uploads/2026/03/QW-Seated-Exercise-flyer-April-to-June-2026.png.png
END:VEVENT
BEGIN:VEVENT
DTSTART;TZID=America/Toronto:20301106T093000
DTEND;TZID=America/Toronto:20301106T110000
DTSTAMP:20260420T184008
CREATED:20260317T174205Z
LAST-MODIFIED:20260317T174248Z
UID:10005697-1920187800-1920193200@www.bqwchc.com
SUMMARY:Drop in—Quinte West Seated Exercise Group
DESCRIPTION:What: Join us for a peer-led seated exercise group. Ages 18+ Experience safe\, gentle and fun ways to exercise your body. \nWhen: 1st and 3rd Wednesday from 9:30am-11:00am \nWhere: 69 Catherine Street\, Trenton \nFREE & Open to Everyone in the Community!\nFacilitated by BQWCHC Volunteers \nFor more information call 613-965-0698 ext 217 for Health Promoter \nCLICK HERE FOR PROGRAM FLYER
URL:https://www.bqwchc.com/calendar/drop-in-quinte-west-seated-exercise-group-2-2/2030-11-06/
LOCATION:Belleville and Quinte West Community Health Centre\, 161 Bridge Street West\, Unit 1\, Belleville\, Ontario\, K8P 1K2\, Canada
CATEGORIES:Excercise,Quinte West
ATTACH;FMTTYPE=image/png:https://www.bqwchc.com/wp-content/uploads/2026/03/QW-Seated-Exercise-flyer-April-to-June-2026.png.png
END:VEVENT
BEGIN:VEVENT
DTSTART;TZID=America/Toronto:20301204T093000
DTEND;TZID=America/Toronto:20301204T110000
DTSTAMP:20260420T184008
CREATED:20260317T174205Z
LAST-MODIFIED:20260317T174248Z
UID:10005698-1922607000-1922612400@www.bqwchc.com
SUMMARY:Drop in—Quinte West Seated Exercise Group
DESCRIPTION:What: Join us for a peer-led seated exercise group. Ages 18+ Experience safe\, gentle and fun ways to exercise your body. \nWhen: 1st and 3rd Wednesday from 9:30am-11:00am \nWhere: 69 Catherine Street\, Trenton \nFREE & Open to Everyone in the Community!\nFacilitated by BQWCHC Volunteers \nFor more information call 613-965-0698 ext 217 for Health Promoter \nCLICK HERE FOR PROGRAM FLYER
URL:https://www.bqwchc.com/calendar/drop-in-quinte-west-seated-exercise-group-2-2/2030-12-04/
LOCATION:Belleville and Quinte West Community Health Centre\, 161 Bridge Street West\, Unit 1\, Belleville\, Ontario\, K8P 1K2\, Canada
CATEGORIES:Excercise,Quinte West
ATTACH;FMTTYPE=image/png:https://www.bqwchc.com/wp-content/uploads/2026/03/QW-Seated-Exercise-flyer-April-to-June-2026.png.png
END:VEVENT
BEGIN:VEVENT
DTSTART;TZID=America/Toronto:20310101T093000
DTEND;TZID=America/Toronto:20310101T110000
DTSTAMP:20260420T184008
CREATED:20260317T174205Z
LAST-MODIFIED:20260317T174248Z
UID:10005699-1925026200-1925031600@www.bqwchc.com
SUMMARY:Drop in—Quinte West Seated Exercise Group
DESCRIPTION:What: Join us for a peer-led seated exercise group. Ages 18+ Experience safe\, gentle and fun ways to exercise your body. \nWhen: 1st and 3rd Wednesday from 9:30am-11:00am \nWhere: 69 Catherine Street\, Trenton \nFREE & Open to Everyone in the Community!\nFacilitated by BQWCHC Volunteers \nFor more information call 613-965-0698 ext 217 for Health Promoter \nCLICK HERE FOR PROGRAM FLYER
URL:https://www.bqwchc.com/calendar/drop-in-quinte-west-seated-exercise-group-2-2/2031-01-01/
LOCATION:Belleville and Quinte West Community Health Centre\, 161 Bridge Street West\, Unit 1\, Belleville\, Ontario\, K8P 1K2\, Canada
CATEGORIES:Excercise,Quinte West
ATTACH;FMTTYPE=image/png:https://www.bqwchc.com/wp-content/uploads/2026/03/QW-Seated-Exercise-flyer-April-to-June-2026.png.png
END:VEVENT
BEGIN:VEVENT
DTSTART;TZID=America/Toronto:20310205T093000
DTEND;TZID=America/Toronto:20310205T110000
DTSTAMP:20260420T184008
CREATED:20260317T174205Z
LAST-MODIFIED:20260317T174248Z
UID:10005700-1928050200-1928055600@www.bqwchc.com
SUMMARY:Drop in—Quinte West Seated Exercise Group
DESCRIPTION:What: Join us for a peer-led seated exercise group. Ages 18+ Experience safe\, gentle and fun ways to exercise your body. \nWhen: 1st and 3rd Wednesday from 9:30am-11:00am \nWhere: 69 Catherine Street\, Trenton \nFREE & Open to Everyone in the Community!\nFacilitated by BQWCHC Volunteers \nFor more information call 613-965-0698 ext 217 for Health Promoter \nCLICK HERE FOR PROGRAM FLYER
URL:https://www.bqwchc.com/calendar/drop-in-quinte-west-seated-exercise-group-2-2/2031-02-05/
LOCATION:Belleville and Quinte West Community Health Centre\, 161 Bridge Street West\, Unit 1\, Belleville\, Ontario\, K8P 1K2\, Canada
CATEGORIES:Excercise,Quinte West
ATTACH;FMTTYPE=image/png:https://www.bqwchc.com/wp-content/uploads/2026/03/QW-Seated-Exercise-flyer-April-to-June-2026.png.png
END:VEVENT
BEGIN:VEVENT
DTSTART;TZID=America/Toronto:20310305T093000
DTEND;TZID=America/Toronto:20310305T110000
DTSTAMP:20260420T184008
CREATED:20260317T174205Z
LAST-MODIFIED:20260317T174248Z
UID:10005701-1930469400-1930474800@www.bqwchc.com
SUMMARY:Drop in—Quinte West Seated Exercise Group
DESCRIPTION:What: Join us for a peer-led seated exercise group. Ages 18+ Experience safe\, gentle and fun ways to exercise your body. \nWhen: 1st and 3rd Wednesday from 9:30am-11:00am \nWhere: 69 Catherine Street\, Trenton \nFREE & Open to Everyone in the Community!\nFacilitated by BQWCHC Volunteers \nFor more information call 613-965-0698 ext 217 for Health Promoter \nCLICK HERE FOR PROGRAM FLYER
URL:https://www.bqwchc.com/calendar/drop-in-quinte-west-seated-exercise-group-2-2/2031-03-05/
LOCATION:Belleville and Quinte West Community Health Centre\, 161 Bridge Street West\, Unit 1\, Belleville\, Ontario\, K8P 1K2\, Canada
CATEGORIES:Excercise,Quinte West
ATTACH;FMTTYPE=image/png:https://www.bqwchc.com/wp-content/uploads/2026/03/QW-Seated-Exercise-flyer-April-to-June-2026.png.png
END:VEVENT
END:VCALENDAR