BEGIN:VCALENDAR
VERSION:2.0
PRODID:-//Belleville and Quinte West Community Health Centre - ECPv6.15.20//NONSGML v1.0//EN
CALSCALE:GREGORIAN
METHOD:PUBLISH
X-ORIGINAL-URL:https://www.bqwchc.com
X-WR-CALDESC:Events for Belleville and Quinte West Community Health Centre
REFRESH-INTERVAL;VALUE=DURATION:PT1H
X-Robots-Tag:noindex
X-PUBLISHED-TTL:PT1H
BEGIN:VTIMEZONE
TZID:America/Toronto
BEGIN:DAYLIGHT
TZOFFSETFROM:-0500
TZOFFSETTO:-0400
TZNAME:EDT
DTSTART:20250309T070000
END:DAYLIGHT
BEGIN:STANDARD
TZOFFSETFROM:-0400
TZOFFSETTO:-0500
TZNAME:EST
DTSTART:20251102T060000
END:STANDARD
BEGIN:DAYLIGHT
TZOFFSETFROM:-0500
TZOFFSETTO:-0400
TZNAME:EDT
DTSTART:20260308T070000
END:DAYLIGHT
BEGIN:STANDARD
TZOFFSETFROM:-0400
TZOFFSETTO:-0500
TZNAME:EST
DTSTART:20261101T060000
END:STANDARD
BEGIN:DAYLIGHT
TZOFFSETFROM:-0500
TZOFFSETTO:-0400
TZNAME:EDT
DTSTART:20270314T070000
END:DAYLIGHT
BEGIN:STANDARD
TZOFFSETFROM:-0400
TZOFFSETTO:-0500
TZNAME:EST
DTSTART:20271107T060000
END:STANDARD
END:VTIMEZONE
BEGIN:VEVENT
DTSTART;TZID=America/Toronto:20260116T133000
DTEND;TZID=America/Toronto:20260116T153000
DTSTAMP:20260420T035148
CREATED:20251215T180151Z
LAST-MODIFIED:20251215T180151Z
UID:10005172-1768570200-1768577400@www.bqwchc.com
SUMMARY:Mind Games Meet-up
DESCRIPTION:What: A social event designed to create opportunities for socialization\, friendship building and having fun. Geared to individuals suffering from social isolation. We will play games\, listen to music\, and enjoy food together. \nWhen: January 15th\, 2026 1:30-3:00 \nWhere: 69 Catherine Street\, Trenton ON  \n*Registration is appreciated* \nTo register or for more information contact Mental Health & Wellness Promoter\, Alyssa:rossa@bqwchc.com or 613-403-5683 \nCLICK HERE FOR PROGRAM FLYER 
URL:https://www.bqwchc.com/calendar/mind-games-meet-up-2/
CATEGORIES:Arts & Crafts,Food,General Events,Quinte West,Social
ATTACH;FMTTYPE=image/jpeg:https://www.bqwchc.com/wp-content/uploads/2025/12/mindgamesmeetupjan-Instagram-Post-45.jpg
END:VEVENT
END:VCALENDAR