BEGIN:VCALENDAR
VERSION:2.0
PRODID:-//Belleville and Quinte West Community Health Centre - ECPv6.15.20//NONSGML v1.0//EN
CALSCALE:GREGORIAN
METHOD:PUBLISH
X-ORIGINAL-URL:https://www.bqwchc.com
X-WR-CALDESC:Events for Belleville and Quinte West Community Health Centre
REFRESH-INTERVAL;VALUE=DURATION:PT1H
X-Robots-Tag:noindex
X-PUBLISHED-TTL:PT1H
BEGIN:VTIMEZONE
TZID:America/Toronto
BEGIN:DAYLIGHT
TZOFFSETFROM:-0500
TZOFFSETTO:-0400
TZNAME:EDT
DTSTART:20240310T070000
END:DAYLIGHT
BEGIN:STANDARD
TZOFFSETFROM:-0400
TZOFFSETTO:-0500
TZNAME:EST
DTSTART:20241103T060000
END:STANDARD
BEGIN:DAYLIGHT
TZOFFSETFROM:-0500
TZOFFSETTO:-0400
TZNAME:EDT
DTSTART:20250309T070000
END:DAYLIGHT
BEGIN:STANDARD
TZOFFSETFROM:-0400
TZOFFSETTO:-0500
TZNAME:EST
DTSTART:20251102T060000
END:STANDARD
BEGIN:DAYLIGHT
TZOFFSETFROM:-0500
TZOFFSETTO:-0400
TZNAME:EDT
DTSTART:20260308T070000
END:DAYLIGHT
BEGIN:STANDARD
TZOFFSETFROM:-0400
TZOFFSETTO:-0500
TZNAME:EST
DTSTART:20261101T060000
END:STANDARD
END:VTIMEZONE
BEGIN:VEVENT
DTSTART;TZID=America/Toronto:20250912T133000
DTEND;TZID=America/Toronto:20250912T143000
DTSTAMP:20260421T061020
CREATED:20250718T153240Z
LAST-MODIFIED:20250917T171323Z
UID:10004455-1757683800-1757687400@www.bqwchc.com
SUMMARY:Come along and Create your own Desert/Charcuterie Board
DESCRIPTION:What: Opportunity for community members to come together to chat and make social connections and have fun learning to make a charcuterie board. \nWhen: Friday September  12\, 19\, 26  1:30pm-2:30pm \nWhere: 69 Catherine Street\, Quinte West  \nFOR MORE INFORMATION OR TO REGISTER\, PLEASE CALL ELAINE AT\n613-962-0000\, EXT. 217 OR EMAIL RADWAYE@BQWCHC.COM \nCLICK HERE FOR PROGRAM FLYER 
URL:https://www.bqwchc.com/calendar/come-along-and-create-your-own-desert-charcuterie-board-2/2025-09-12/
CATEGORIES:Arts & Crafts,Food,Quinte West,Social
END:VEVENT
BEGIN:VEVENT
DTSTART;TZID=America/Toronto:20250912T143000
DTEND;TZID=America/Toronto:20250912T153000
DTSTAMP:20260421T061020
CREATED:20250219T194522Z
LAST-MODIFIED:20250327T145622Z
UID:10002749-1757687400-1757691000@www.bqwchc.com
SUMMARY:Quinte West Hot Meal Pick-Up
DESCRIPTION:WHAT: DROP BY and pick up a healthy and delicious hot take-away meal. \nWHEN: 2nd and 4th Friday of each month from 2:30—3:30 pm \nWHERE: 69 Catherine St.\, Trenton (NEW LOCATION!) \nFREE and Open to Everyone in the Community! Registration is not required. \nFor more information\, call 613-965-0698\, press ‘0’ for reception \nCLICK HERE FOR PROGRAM FLYER 
URL:https://www.bqwchc.com/calendar/quinte-west-hot-meal-pick-up-2/2025-09-12/
LOCATION:Quinte West Community Health Centre\, 69 Catherine Street\, Trenton\, Ontario\, K8V 5K9\, Canada
CATEGORIES:Food,General Events,Quinte West
ATTACH;FMTTYPE=image/jpeg:https://www.bqwchc.com/wp-content/uploads/2025/02/QW-hot-meal-pick-up.jpg
END:VEVENT
END:VCALENDAR